BEGIN:VCALENDAR
VERSION:2.0
PRODID:-//MFA Kimpeveld - ECPv5.3.0//NONSGML v1.0//EN
CALSCALE:GREGORIAN
METHOD:PUBLISH
X-WR-CALNAME:MFA Kimpeveld
X-ORIGINAL-URL:https://www.mfakimpeveld.nl
X-WR-CALDESC:Evenementen voor MFA Kimpeveld
BEGIN:VTIMEZONE
TZID:UTC
BEGIN:STANDARD
TZOFFSETFROM:+0000
TZOFFSETTO:+0000
TZNAME:UTC
DTSTART:20260101T000000
END:STANDARD
END:VTIMEZONE
BEGIN:VEVENT
DTSTART;TZID=UTC:20260525T033000
DTEND;TZID=UTC:20260525T190000
DTSTAMP:20260420T213403
CREATED:20201102T193605Z
LAST-MODIFIED:20201102T193605Z
UID:3448-1779679800-1779735600@www.mfakimpeveld.nl
SUMMARY:Rick muziekles Mia Claessen 15.30 - 19.00 uur zaaldeel 2
DESCRIPTION:Rick muziekles Mia Claessen 15.30 – 19.00 uur zaaldeel 2
URL:https://www.mfakimpeveld.nl/event/rick-muziekles-mia-claessen-15-30-19-00-uur-zaaldeel-23/2026-05-25/
END:VEVENT
END:VCALENDAR