BEGIN:VCALENDAR
VERSION:2.0
PRODID:-//MFA Kimpeveld - ECPv5.3.0//NONSGML v1.0//EN
CALSCALE:GREGORIAN
METHOD:PUBLISH
X-WR-CALNAME:MFA Kimpeveld
X-ORIGINAL-URL:https://www.mfakimpeveld.nl
X-WR-CALDESC:Evenementen voor MFA Kimpeveld
BEGIN:VTIMEZONE
TZID:UTC
BEGIN:STANDARD
TZOFFSETFROM:+0000
TZOFFSETTO:+0000
TZNAME:UTC
DTSTART:20200101T000000
END:STANDARD
END:VTIMEZONE
BEGIN:VEVENT
DTSTART;TZID=UTC:20201203T150000
DTEND;TZID=UTC:20201203T170000
DTSTAMP:20260420T210519
CREATED:20201201T185032Z
LAST-MODIFIED:20201207T122310Z
UID:1216-1607007600-1607014800@www.mfakimpeveld.nl
SUMMARY:Rick 15.15 uur tot 17.15 bieb
DESCRIPTION:Rick donderdag.
URL:https://www.mfakimpeveld.nl/event/rick-15-15-uur-tot-17-15-biebr/2020-12-03/
END:VEVENT
END:VCALENDAR