BEGIN:VCALENDAR
VERSION:2.0
PRODID:-//MFA Kimpeveld - ECPv5.3.0//NONSGML v1.0//EN
CALSCALE:GREGORIAN
METHOD:PUBLISH
X-WR-CALNAME:MFA Kimpeveld
X-ORIGINAL-URL:https://www.mfakimpeveld.nl
X-WR-CALDESC:Evenementen voor MFA Kimpeveld
BEGIN:VTIMEZONE
TZID:UTC
BEGIN:STANDARD
TZOFFSETFROM:+0000
TZOFFSETTO:+0000
TZNAME:UTC
DTSTART:20260101T000000
END:STANDARD
END:VTIMEZONE
BEGIN:VEVENT
DTSTART;TZID=UTC:20260506T200000
DTEND;TZID=UTC:20260506T220000
DTSTAMP:20260421T111920
CREATED:20201121T123027Z
LAST-MODIFIED:20201121T123027Z
UID:3425-1778097600-1778104800@www.mfakimpeveld.nl
SUMMARY:Repetitie fanfare
DESCRIPTION:
URL:https://www.mfakimpeveld.nl/event/repetitie-fanfare/2026-05-06/
END:VEVENT
END:VCALENDAR