BEGIN:VCALENDAR
VERSION:2.0
PRODID:-//MFA Kimpeveld - ECPv5.3.0//NONSGML v1.0//EN
CALSCALE:GREGORIAN
METHOD:PUBLISH
X-WR-CALNAME:MFA Kimpeveld
X-ORIGINAL-URL:https://www.mfakimpeveld.nl
X-WR-CALDESC:Evenementen voor MFA Kimpeveld
BEGIN:VTIMEZONE
TZID:UTC
BEGIN:STANDARD
TZOFFSETFROM:+0000
TZOFFSETTO:+0000
TZNAME:UTC
DTSTART:20240101T000000
END:STANDARD
END:VTIMEZONE
BEGIN:VEVENT
DTSTART;TZID=UTC:20240508T200000
DTEND;TZID=UTC:20240508T220000
DTSTAMP:20260421T111842
CREATED:20201121T123027Z
LAST-MODIFIED:20201121T123027Z
UID:2584-1715198400-1715205600@www.mfakimpeveld.nl
SUMMARY:Repetitie fanfare
DESCRIPTION:
URL:https://www.mfakimpeveld.nl/event/repetitie-fanfare/2024-05-08/
END:VEVENT
END:VCALENDAR