BEGIN:VCALENDAR
VERSION:2.0
PRODID:-//MFA Kimpeveld - ECPv5.3.0//NONSGML v1.0//EN
CALSCALE:GREGORIAN
METHOD:PUBLISH
X-WR-CALNAME:MFA Kimpeveld
X-ORIGINAL-URL:https://www.mfakimpeveld.nl
X-WR-CALDESC:Evenementen voor MFA Kimpeveld
BEGIN:VTIMEZONE
TZID:UTC
BEGIN:STANDARD
TZOFFSETFROM:+0000
TZOFFSETTO:+0000
TZNAME:UTC
DTSTART:20200101T000000
END:STANDARD
END:VTIMEZONE
BEGIN:VEVENT
DTSTART;TZID=UTC:20201207T080000
DTEND;TZID=UTC:20201207T170000
DTSTAMP:20260421T090214
CREATED:20201207T125832Z
LAST-MODIFIED:20201207T125832Z
UID:1903-1607328000-1607360400@www.mfakimpeveld.nl
SUMMARY:jeugdorkest 18.30 tot 20.00
DESCRIPTION:
URL:https://www.mfakimpeveld.nl/event/jeugdorkest-18-30-tot-20-00/
END:VEVENT
END:VCALENDAR